BEGIN:VCALENDAR
VERSION:2.0
PRODID:-//ChamberMaster//Event Calendar 2.0//EN
METHOD:PUBLISH
X-PUBLISHED-TTL:P3D
REFRESH-INTERVAL:P3D
CALSCALE:GREGORIAN
BEGIN:VEVENT
DTSTART:20260207T010000Z
DTEND:20260207T033000Z
X-MICROSOFT-CDO-ALLDAYEVENT:FALSE
SUMMARY:Gotta' Have Heart
DESCRIPTION:Featuring a collection of scratchboard art & a variety of bee\, honey\, and garden-inspired artwork including a selection of hand-crafted Valentines\, original prints\, sculptures\, mosaics\, and jewelry.\n\nPublic Reception Friday\, February 6th 5-7:30 PM\n\nSophie's Gallery is a creative space for artists with intellectual & developmental disabilities located in Downtown\n\nEl Cajon for the past 25 years! As we look to the future we celebrate a legacy of art projects\, and 100s of local\, state\, national\, and international art shows.
X-ALT-DESC;FMTTYPE=text/html:<p>Featuring a collection of scratchboard art &amp\; a variety of bee\, honey\, and garden-inspired artwork including a selection of hand-crafted Valentines\, original prints\, sculptures\, mosaics\, and jewelry.</p>\n\n<p>Public Reception Friday\, February 6<span style="font-size:0.75em">th</span>&nbsp\;5-7:30 PM</p>\n\n<p>Sophie&rsquo\;s Gallery is a creative space for artists with intellectual &amp\; developmental disabilities located in Downtown</p>\n\n<p>El Cajon for the past 25 years! As we look to the future we celebrate a legacy of art projects\, and 100s of local\, state\, national\, and international art shows.</p>\n
LOCATION:Sophie's Art Gallery-Gift Shop 140 E Main St\, El Cajon\, CA 92020
UID:e.895.21842
SEQUENCE:3
DTSTAMP:20260424T022125Z
URL:https://business.eastcountychamber.org/events/details/gotta-have-heart-21842
END:VEVENT

END:VCALENDAR
