BEGIN:VCALENDAR
VERSION:2.0
PRODID:-//ChamberMaster//Event Calendar 2.0//EN
METHOD:PUBLISH
X-PUBLISHED-TTL:P3D
REFRESH-INTERVAL:P3D
CALSCALE:GREGORIAN
BEGIN:VEVENT
DTSTART:20200303T153000Z
DTEND:20200303T170000Z
X-MICROSOFT-CDO-ALLDAYEVENT:FALSE
SUMMARY:Government Affairs Committee
DESCRIPTION:Greetings\,\n\nJoin us at our monthly Government Affairs & Infrastructure Land Use Committee. We have included other chamber members in our email who may be interested in attending and joining the committee.\n\n\n\nCurrent Committee the agenda for next week is below\, please click on the link.\n\nhttps://chambermaster.blob.core.windows.net/userfiles/UserFiles/chambers/895/File/My_folder/GovernmentAffairsAgenda.jp
X-ALT-DESC;FMTTYPE=text/html:Greetings\,<br />\nJoin us at our monthly Government Affairs &amp\; Infrastructure Land Use Committee. We have included other chamber members in our email who may be interested in attending and joining the committee.<br />\n<br />\nCurrent Committee the agenda for next week is below\, please click on the link.<br />\n<a href="https://chambermaster.blob.core.windows.net/userfiles/UserFiles/chambers/895/File/My_folder/GovernmentAffairsAgenda.jpg">https://chambermaster.blob.core.windows.net/userfiles/UserFiles/chambers/895/File/My_folder/GovernmentAffairsAgenda.jp</a><br />\n<br />\n<br />\n<br />\n&nbsp\;
LOCATION:San Diego East County Chamber of Commerce 201 S Magnolia El Cajon\, CA 92020
UID:e.895.9687
SEQUENCE:3
DTSTAMP:20260424T212339Z
URL:https://business.eastcountychamber.org/events/details/government-affairs-committee-9687
END:VEVENT

END:VCALENDAR
