BEGIN:VCALENDAR
VERSION:2.0
PRODID:-//ChamberMaster//Event Calendar 2.0//EN
METHOD:PUBLISH
X-PUBLISHED-TTL:P3D
REFRESH-INTERVAL:P3D
CALSCALE:GREGORIAN
BEGIN:VEVENT
DTSTART:20200804T230000Z
DTEND:20200805T010000Z
X-MICROSOFT-CDO-ALLDAYEVENT:FALSE
SUMMARY:GROSSMONT COLLEGE ADULT REENTRY VIRTUAL OPEN HOUSE
DESCRIPTION:Meet college administrators & staff\n	Learn about in-demand programs and short-term training's\n	Hear former students success stories\n	Learn about student services & resources\n	Available financial aid & scholarship opportunities\n	Take a virtual campus tour\n	Receive admissions and course registration assistance
X-ALT-DESC;FMTTYPE=text/html:<ul>\n	<li>Meet college administrators &amp\; staff</li>\n	<li>Learn about in-demand programs and short-term training&#39\;s</li>\n	<li>Hear former students success stories</li>\n	<li>Learn about student services &amp\; resources</li>\n	<li>Available financial aid &amp\; scholarship opportunities</li>\n	<li>Take a virtual campus tour</li>\n	<li>Receive admissions and course registration assistance</li>\n</ul>\n
LOCATION:LIVE VIRTUAL EVENT **REGISTRATION REQUIRED** RSVP: TINYURL.COM/YBS6WHCM FOR MORE INFO CONTACT : RENEE.NASORI@GCCCD.EDU
UID:e.895.10066
SEQUENCE:3
DTSTAMP:20260424T142428Z
URL:https://business.eastcountychamber.org/events/details/grossmont-college-adult-reentry-virtual-open-house-10066
END:VEVENT

END:VCALENDAR
