BEGIN:VCALENDAR
VERSION:2.0
PRODID:-//ChamberMaster//Event Calendar 2.0//EN
METHOD:PUBLISH
X-PUBLISHED-TTL:P3D
REFRESH-INTERVAL:P3D
CALSCALE:GREGORIAN
BEGIN:VEVENT
DTSTART:20260127T180000Z
DTEND:20260127T193000Z
X-MICROSOFT-CDO-ALLDAYEVENT:FALSE
SUMMARY:In-person Job Interview Preparation Workshop (El Cajon)
DESCRIPTION:Discover the five stages of the interview process\, learn how to answer the dreaded "weakness" question and create an impressive elevator pitch.\n\nExplore valuable online resources to identify keywords using the latest ChatGPT technology.
X-ALT-DESC;FMTTYPE=text/html:<p style="box-sizing: border-box\; margin: 0px 0px 11px\; font-family: &quot\;Work Sans&quot\;\, sans-serif\; font-size: 16px\;"><span style="box-sizing: border-box\; font-size: 11pt\;"><span style="box-sizing: border-box\; font-size: 12pt\;">Discover the five stages of the interview process\, learn how to answer the dreaded &ldquo\;weakness&rdquo\; question and create an impressive elevator pitch.</span></span></p>\n\n<p style="box-sizing: border-box\; margin: 0px 0px 11px\; font-family: &quot\;Work Sans&quot\;\, sans-serif\; font-size: 16px\;"><span style="box-sizing: border-box\; font-size: 12pt\;">Explore valuable online resources&#8239\;to identify keywords using the latest ChatGPT technology.&nbsp\;</span></p>\n
LOCATION:East County Career Center\, 151 Van Houten Ave\, El Cajon\, CA 92020
UID:e.895.21866
SEQUENCE:3
DTSTAMP:20260424T053630Z
URL:https://business.eastcountychamber.org/events/details/in-person-job-interview-preparation-workshop-el-cajon-21866
END:VEVENT

END:VCALENDAR
