BEGIN:VCALENDAR
VERSION:2.0
PRODID:-//ChamberMaster//Event Calendar 2.0//EN
METHOD:PUBLISH
X-PUBLISHED-TTL:P3D
REFRESH-INTERVAL:P3D
CALSCALE:GREGORIAN
BEGIN:VEVENT
DTSTART:20260113T180000Z
DTEND:20260113T193000Z
X-MICROSOFT-CDO-ALLDAYEVENT:FALSE
SUMMARY:In-Person Resume Building (El Cajon)
DESCRIPTION:See your resume from the employer's perspective. Join an in-person\, interactive workshop to explore the latest strategies to help you stand out in today's job market.\n\nAt this event you will:\n\n\n	Compare and contrast resume types\n	Learn about formatting and critical sections\n	Explore free online tools to identify skills and keywords to beat the ATS\n	Learn how to use chatGPT to tailor your resume to specific job descriptions
X-ALT-DESC;FMTTYPE=text/html:<p style="box-sizing: border-box\; margin: 0px 0px 11px\; font-family: &quot\;Work Sans&quot\;\, sans-serif\; font-size: 16px\;"><span style="box-sizing: border-box\; font-size: 12pt\;">See your resume from the employer&rsquo\;s perspective. Join an in-person\, interactive&nbsp\;<span class="mark4msr2kol5" data-markjs="true" data-ogab="" data-ogac="" data-ogsb="" data-ogsc="" style="box-sizing: border-box\;">workshop</span>&nbsp\;to explore the latest strategies to help you stand out in today&rsquo\;s job market.</span></p>\n\n<p style="box-sizing: border-box\; margin: 0px 0px 11px\; font-family: &quot\;Work Sans&quot\;\, sans-serif\; font-size: 16px\;"><span style="box-sizing: border-box\; font-size: 12pt\;">At this event you will:</span></p>\n\n<ul style="box-sizing: border-box\; margin-top: 0px\; margin-bottom: 11px\; font-family: &quot\;Work Sans&quot\;\, sans-serif\; font-size: 16px\;">\n	<li style="box-sizing: border-box\;"><span style="box-sizing: border-box\; font-size: 12pt\;">Compare and contrast resume types</span></li>\n	<li style="box-sizing: border-box\;"><span style="box-sizing: border-box\; font-size: 12pt\;">Learn about formatting and critical sections</span></li>\n	<li style="box-sizing: border-box\;"><span style="box-sizing: border-box\; font-size: 12pt\;">Explore free online tools to identify skills and&nbsp\;<a href="https://www.onetonline.org/" rel="noopener" style="box-sizing: border-box\; background-color: transparent\; color: rgb(6\, 183\, 223)\; text-decoration-line: none\; transition: 0.2s\; font-weight: 700\;" target="_blank">keywords</a>&nbsp\;to beat the ATS</span></li>\n	<li style="box-sizing: border-box\;"><span style="box-sizing: border-box\; font-size: 12pt\;">Learn how to use chatGPT to tailor your resume to specific job descriptions</span></li>\n</ul>\n\n<h3 style="box-sizing: border-box\; font-family: &quot\;Work Sans&quot\;\, sans-serif\; font-weight: 600\; line-height: 1.1\; color: rgb(73\, 120\, 188)\; margin-top: 0px\; margin-bottom: 11px\; font-size: 2.6rem\; letter-spacing: 1px\;">&nbsp\;</h3>\n
LOCATION:151 Van Houten Ave. El Cajon\, CA 92020
UID:e.895.21864
SEQUENCE:3
DTSTAMP:20260424T053717Z
URL:https://business.eastcountychamber.org/events/details/in-person-resume-building-el-cajon-21864
END:VEVENT

END:VCALENDAR
