BEGIN:VCALENDAR
VERSION:2.0
PRODID:-//ChamberMaster//Event Calendar 2.0//EN
METHOD:PUBLISH
X-PUBLISHED-TTL:P3D
REFRESH-INTERVAL:P3D
CALSCALE:GREGORIAN
BEGIN:VEVENT
DTSTART:20200910T193000Z
DTEND:20200910T203000Z
X-MICROSOFT-CDO-ALLDAYEVENT:FALSE
SUMMARY:Investing During Uncertainty
DESCRIPTION:SDCCU Investment Services is hosting a Free Investment Webinar on Thursday September 10\, 2020 from 12:30 p.m. - 1:30 p.m. Sharing valuable information about investing during uncertainty and will focus on:\n\n	2020 economic and market forecasts\n	Road to Recovery Playbook\n	Focus on the Long Term
X-ALT-DESC;FMTTYPE=text/html:<span style="font-size:14px\;"><span style="color: rgb(106\, 107\, 109)\; font-family: myriad-pro\, sans-serif\; background-color: rgb(254\, 254\, 254)\;">SDCCU Investment Services is hosting a Free Investment Webinar on Thursday September 10\, 2020 from 12:30 p.m. - 1:30 p.m. Sharing valuable information about investing during uncertainty and will focus on:</span></span>\n<ul style="box-sizing: inherit\; margin: 0px 0px 1rem 1.25rem\; padding-right: 0px\; padding-left: 0px\; list-style-position: outside\; line-height: 24px\; color: rgb(106\, 107\, 109)\; font-family: myriad-pro\, sans-serif\; font-size: 18px\; background-color: rgb(254\, 254\, 254)\;">\n	<li style="box-sizing: inherit\; margin: 0px\; padding: 0px\; font-size: inherit\;"><span style="font-size:14px\;">2020 economic and market forecasts</span></li>\n	<li style="box-sizing: inherit\; margin: 0px\; padding: 0px\; font-size: inherit\;"><span style="font-size:14px\;">Road to Recovery Playbook</span></li>\n	<li style="box-sizing: inherit\; margin: 0px\; padding: 0px\; font-size: inherit\;"><span style="font-size:14px\;">Focus on the Long Term</span></li>\n</ul>\n
LOCATION:Register Today! https://www.sdccu.com/events/2020/09-september/investment-webinar/
UID:e.895.10093
SEQUENCE:3
DTSTAMP:20260424T104648Z
URL:https://business.eastcountychamber.org/events/details/investing-during-uncertainty-10093
END:VEVENT

END:VCALENDAR
