BEGIN:VCALENDAR
VERSION:2.0
PRODID:-//ChamberMaster//Event Calendar 2.0//EN
METHOD:PUBLISH
X-PUBLISHED-TTL:P3D
REFRESH-INTERVAL:P3D
CALSCALE:GREGORIAN
BEGIN:VEVENT
DTSTART:20201216T013000Z
DTEND:20201216T023000Z
X-MICROSOFT-CDO-ALLDAYEVENT:FALSE
SUMMARY:Joint Chamber Holiday Spirit Virtual Mixer
DESCRIPTION:Join the East Region Chamber of Commerce's for a Virtual Holiday Mixer for FREE.  There will be prizes\, speed networking and a contest for the "Ugliest Sweater"
X-ALT-DESC;FMTTYPE=text/html:<span style="font-family:calibri\,sans-serif\;"><span style="font-size:11.0pt\;">Join the East Region Chamber of Commerce&rsquo\;s for a Virtual Holiday Mixer for FREE.&nbsp\; There will be prizes\, speed networking and a contest for the &ldquo\;Ugliest Sweater&rdquo\;</span></span>
LOCATION:**Register to get the link**
UID:e.895.10158
SEQUENCE:3
DTSTAMP:20260424T054718Z
URL:https://business.eastcountychamber.org/events/details/joint-chamber-holiday-spirit-virtual-mixer-10158
END:VEVENT

END:VCALENDAR
