BEGIN:VCALENDAR
VERSION:2.0
PRODID:-//ChamberMaster//Event Calendar 2.0//EN
METHOD:PUBLISH
X-PUBLISHED-TTL:P3D
REFRESH-INTERVAL:P3D
CALSCALE:GREGORIAN
BEGIN:VEVENT
DTSTART:20260313T010000Z
DTEND:20260313T020000Z
X-MICROSOFT-CDO-ALLDAYEVENT:FALSE
SUMMARY:Keys to Homeownership: Nuts and Bolts of Home Mortgages
DESCRIPTION:East County Schools Federal Credit Union\, in partnership with Mason-McDuffie Mortgage\, invites members and the education community to a free educational session focused on navigating retirement financing options.\n\n\n\nThis session will deep dive into the nuts and bolts of home mortgages\, including how loans work\, what lenders look for\, and how to prepare to buy or refinance with confidence.\n\n\n\nLocation: ECSFCU Main Branch\n\n1069 Graves Ave.\, Suite 100\, El Cajon\, CA 92021\n\nVirtual Option: Zoom available\n\nIn-Person Check-In: 5:30 6:00 PM\n\nPresentation: 6:00 7:00 PM\n\nDate: Thursday\, March 12\nPresented by:\n\nSuzy Dukelow\, Sales Manager\, Mason-McDuffie Mortgage\n\nThis free session is part of ECSFCU's ongoing commitment to financial education and wellness for the education community.
X-ALT-DESC;FMTTYPE=text/html:East County Schools Federal Credit Union\, in partnership with <strong>Mason-McDuffie Mortgage</strong>\, invites members and the education community to a free educational session focused on navigating retirement financing options.<br />\n<br />\nThis session will deep dive into the nuts and bolts of home mortgages\, including how loans work\, what lenders look for\, and how to prepare to buy or refinance with confidence.<br />\n<br />\n<strong>Location:</strong> ECSFCU Main Branch<br />\n1069 Graves Ave.\, Suite 100\, El Cajon\, CA 92021<br />\n<strong>Virtual Option:</strong> Zoom available<br />\n<strong>In-Person Check-In:</strong> 5:30&ndash\;6:00 PM<br />\n<strong>Presentation:</strong> 6:00&ndash\;7:00 PM<br />\n<strong>Date:</strong> Thursday\, March 12\n<p><strong>Presented by:</strong><br />\nSuzy Dukelow\, Sales Manager\, Mason-McDuffie Mortgage</p>\n\n<p>This free session is part of ECSFCU&rsquo\;s ongoing commitment to financial education and wellness for the education community.</p>\n
LOCATION:1069 Graves Ave.\, Suite 100\, El Cajon\, CA 92021
UID:e.895.21840
SEQUENCE:3
DTSTAMP:20260424T010839Z
URL:https://business.eastcountychamber.org/events/details/keys-to-homeownership-nuts-and-bolts-of-home-mortgages-21840
END:VEVENT

END:VCALENDAR
