BEGIN:VCALENDAR
VERSION:2.0
PRODID:-//ChamberMaster//Event Calendar 2.0//EN
METHOD:PUBLISH
X-PUBLISHED-TTL:P3D
REFRESH-INTERVAL:P3D
CALSCALE:GREGORIAN
BEGIN:VEVENT
DTSTART:20110305T190000Z
DTEND:20110305T220000Z
X-MICROSOFT-CDO-ALLDAYEVENT:FALSE
SUMMARY:Knox Museum Tour
DESCRIPTION:Tours of Knox House Museum - Saturday\, March 5\, 11 am - 2 pm\, El Cajon's 1876 settler museum\, 280 N. Magnolia Ave\, El Cajon\, Info: 619.444.3800. elcajonhistory.org
X-ALT-DESC;FMTTYPE=text/html:<span style="font-weight: bold">Tours of Knox House Museum</span> - Saturday\, March 5<span class="yshortcuts" id="lw_1298565143_0" style="border-bottom: rgb(54\,99\,136) 2px dotted\; background: none transparent scroll repeat 0% 0%\; cursor: pointer">\, 11 am</span> - 2 pm\, El Cajon&#39\;s 1876 settler museum\, <span class="yshortcuts" id="lw_1298565143_1" style="border-bottom: rgb(54\,99\,136) 2px dotted\; background: none transparent scroll repeat 0% 0%\; cursor: pointer">280 N. Magnolia Ave\, El Cajon</span>\, Info: <span class="yshortcuts" id="lw_1298565143_2" style="border-bottom: rgb(54\,99\,136) 2px dotted\; cursor: pointer">619.444.3800</span>. <a href="http://elcajonhistory.org/" target="_blank" title="blocked::http://elcajonhistory.org/"><span class="yshortcuts" id="lw_1298565143_3" title="blocked::http://elcajonhistory.org/">elcajonhistory.org</span></a><br />\n<span _fck_bookmark="1" style="display: none">&nbsp\;</span>
LOCATION:
UID:e.895.495
SEQUENCE:3
DTSTAMP:20260422T005630Z
URL:https://business.eastcountychamber.org/events/details/knox-museum-tour-03-05-2011-495
END:VEVENT

END:VCALENDAR
