BEGIN:VCALENDAR
VERSION:2.0
PRODID:-//ChamberMaster//Event Calendar 2.0//EN
METHOD:PUBLISH
X-PUBLISHED-TTL:P3D
REFRESH-INTERVAL:P3D
CALSCALE:GREGORIAN
BEGIN:VEVENT
DTSTART:20200819T233000Z
DTEND:20200820T010000Z
X-MICROSOFT-CDO-ALLDAYEVENT:FALSE
SUMMARY:Let’s Go Do Local Virtual Mixer
DESCRIPTION:In addition to connecting with other local professionals\, you'll have the opportunity to win gift cards to local businesses\, prizes\, and a Shop Local East County Extravaganza gift basket!
X-ALT-DESC;FMTTYPE=text/html:In addition to connecting with other local professionals\, you&#39\;ll have the opportunity to win gift cards to local businesses\, prizes\, and a Shop Local East County Extravaganza gift basket!
LOCATION:Join Zoom Meeting https://zoom.us/j/91690407399 Meeting ID: 916 9040 7399
UID:e.895.10055
SEQUENCE:3
DTSTAMP:20260424T123440Z
URL:https://business.eastcountychamber.org/events/details/let-s-go-do-local-virtual-mixer-10055
END:VEVENT

END:VCALENDAR
