BEGIN:VCALENDAR
VERSION:2.0
PRODID:-//ChamberMaster//Event Calendar 2.0//EN
METHOD:PUBLISH
X-PUBLISHED-TTL:P3D
REFRESH-INTERVAL:P3D
CALSCALE:GREGORIAN
BEGIN:VEVENT
DTSTART:20110323T000000Z
DTEND:20110323T013000Z
X-MICROSOFT-CDO-ALLDAYEVENT:FALSE
SUMMARY:Lionheart Fencing Academy Ribbon-Cutting
DESCRIPTION:Join us Tuesday\, March 2nd at Lionheart Fencing Academy located at 8380 Center Drive in La Mesa from 5-6:30 p.m. to celebrate their Grand Opening!
X-ALT-DESC;FMTTYPE=text/html:Join us Tuesday\, March 2nd at Lionheart Fencing Academy located at 8380 Center Drive in La Mesa from 5-6:30 p.m. to celebrate their Grand Opening!
LOCATION:
UID:e.895.480
SEQUENCE:3
DTSTAMP:20260421T211933Z
URL:https://business.eastcountychamber.org/events/details/lionheart-fencing-academy-ribbon-cutting-03-22-2011-480
END:VEVENT

END:VCALENDAR
