BEGIN:VCALENDAR
VERSION:2.0
PRODID:-//ChamberMaster//Event Calendar 2.0//EN
METHOD:PUBLISH
X-PUBLISHED-TTL:P3D
REFRESH-INTERVAL:P3D
CALSCALE:GREGORIAN
BEGIN:VEVENT
DTSTART:20210624T190000Z
DTEND:20210624T203000Z
X-MICROSOFT-CDO-ALLDAYEVENT:FALSE
SUMMARY:Lunch and Learn: Small Business Forum
DESCRIPTION:Come join us with the United States Department of the Treasury as we will discuss various topics and information sharing to benefit small businesses! This is a FREE Virtual Event!
X-ALT-DESC;FMTTYPE=text/html:Come join us with the United States Department of the Treasury as we will discuss various topics and information sharing to benefit small businesses! This is a FREE Virtual Event!
LOCATION:Zoom (Virtual Event)
UID:e.895.13403
SEQUENCE:3
DTSTAMP:20260423T151244Z
URL:https://business.eastcountychamber.org/events/details/lunch-and-learn-small-business-forum-13403
END:VEVENT

END:VCALENDAR
