BEGIN:VCALENDAR
VERSION:2.0
PRODID:-//ChamberMaster//Event Calendar 2.0//EN
METHOD:PUBLISH
X-PUBLISHED-TTL:P3D
REFRESH-INTERVAL:P3D
CALSCALE:GREGORIAN
BEGIN:VEVENT
DTSTART:20200930T183000Z
DTEND:20200930T200000Z
X-MICROSOFT-CDO-ALLDAYEVENT:FALSE
SUMMARY:Lunch & Learn
DESCRIPTION:ADA Website Compliance:\n\n\n	It is an increasing problem\, especially for small businesses\, who are vulnerable because they don't know about the mandatory legislation.\n	Unfortunately a complaint can cost thousands of dollars. $$$
X-ALT-DESC;FMTTYPE=text/html:<p>ADA Website Compliance:</p>\n\n<ul>\n	<li style="margin-left: 2.25pt\;">It is an increasing problem\, especially for small businesses\, who are vulnerable because they don&#39\;t know about the mandatory legislation.</li>\n	<li style="margin-left: 2.25pt\;">Unfortunately a complaint can cost thousands of dollars. $$$</li>\n</ul>\n
LOCATION:Zoom meeting ** Please register to get access**
UID:e.895.10092
SEQUENCE:3
DTSTAMP:20260424T104257Z
URL:https://business.eastcountychamber.org/events/details/lunch-learn-10092
END:VEVENT

END:VCALENDAR
