BEGIN:VCALENDAR
VERSION:2.0
PRODID:-//ChamberMaster//Event Calendar 2.0//EN
METHOD:PUBLISH
X-PUBLISHED-TTL:P3D
REFRESH-INTERVAL:P3D
CALSCALE:GREGORIAN
BEGIN:VEVENT
DTSTART:20210513T190000Z
DTEND:20210513T200000Z
X-MICROSOFT-CDO-ALLDAYEVENT:FALSE
SUMMARY:Lunch & Learn
DESCRIPTION:Saving Yourself the Cost of Insecurity:\n\nWe're all insecure and it's costing us. But exactly how much and how do we stop paying for it? \n\nIn this workshop\, speaker and author Chantelle Anderson takes you on a journey starting with her insecurity   from skipping her first speech to an identity crisis after retiring from the WNBA   and ending in confidently going after her dream career post-basketball. \n\n\n\nThe result is a practical question and answer process that will help you overcome your own insecurities\, building the confidence you need to get out of your own way\, find success\, and live your calling.
X-ALT-DESC;FMTTYPE=text/html:<p><u><span style="font-size:10.0pt\;font-family:&quot\;Helvetica Neue&quot\;\;color:black">Saving Yourself the Cost of Insecurity:</span></u><o:p></o:p></p>\n\n<p><span style="font-family: &quot\;Helvetica Neue&quot\;\; font-size: 10pt\;">We&rsquo\;re all insecure and it&rsquo\;s costing us. But exactly how much and how do we stop paying for it?</span><span class="xxapple-converted-space" style="font-family: &quot\;Helvetica Neue&quot\;\; font-size: 10pt\;">&nbsp\;</span></p>\n\n<p><span style="font-family: &quot\;Helvetica Neue&quot\;\; font-size: 10pt\;">In this workshop\, speaker and author Chantelle Anderson takes you on a journey starting with her insecurity &ndash\; from skipping her first speech to an identity crisis after retiring from the WNBA &ndash\; and ending in confidently going after her dream career post-basketball.</span><span class="xxapple-converted-space" style="font-family: &quot\;Helvetica Neue&quot\;\; font-size: 10pt\;">&nbsp\;</span></p>\n\n<p><o:p></o:p></p>\n\n<p style="min-height:15.0px"><span style="font-family: &quot\;Helvetica Neue&quot\;\; font-size: 10pt\;">The result is a practical question and answer process that will help you overcome your own insecurities\, building the confidence you need to get out of your own way\, find success\, and live your calling.&nbsp\;</span></p>\n\n<p><o:p></o:p></p>\n
LOCATION:Virtual
UID:e.895.13571
SEQUENCE:3
DTSTAMP:20260423T183419Z
URL:https://business.eastcountychamber.org/events/details/lunch-learn-13571
END:VEVENT

END:VCALENDAR
