BEGIN:VCALENDAR
VERSION:2.0
PRODID:-//ChamberMaster//Event Calendar 2.0//EN
METHOD:PUBLISH
X-PUBLISHED-TTL:P3D
REFRESH-INTERVAL:P3D
CALSCALE:GREGORIAN
BEGIN:VEVENT
DTSTART:20110327T200000Z
DTEND:20110327T220000Z
X-MICROSOFT-CDO-ALLDAYEVENT:FALSE
SUMMARY:March - Intro to Whole Raw Food
DESCRIPTION:Introduction to Whole Raw Food is an introductory workshop designed for anyone who wants to learn more about the health benefits of consuming a diet that includes whole\, plant-based foods. The workshop provides information on the latest scientific research regarding food and its critical impact on the body. A nutritious smoothie is created at the end with discussion on why certain ingredients are included based on their nutritional and antioxidant value. Conversation throughout the workshop also includes fascinating topics that can be factors in everyone's health and well being. For example:\n\n	\n\n	Are you aware that we can actually get too much iron and that it can lead to serious health issues? Do you know the most common source of too much iron?\n\n	\n\n	Are you aware that when you boil spinach\, you lose 51% of the B vitamin in 5 minutes of cooking?\n\n	\n\n	Are you aware that our body creates fat cells\, including cellulite\, to store excess acid in order to protect it from reaching our organs?\n\n	\n\n	If these types of questions are intriguing to you\, then our "Introduction to Whole Raw Food" workshop should be on your "to do" list! Come join us for 2 1/2 hours of engaging\, interactive discussion around the fascinating science of whole\, raw food!\n\n	\n\n	To register for this workshop go to www.WholeRawFoodNow.com and click on Workshops.\n\n	 \n\n	Download the PDF flyer.
X-ALT-DESC;FMTTYPE=text/html:<p>\n	Introduction to Whole Raw Food is an introductory workshop designed for anyone who wants to learn more about the health benefits of consuming a diet that includes whole\, plant-based foods. The workshop provides information on the latest scientific research regarding food and its critical impact on the body. A nutritious smoothie is created at the end with discussion on why certain ingredients are included based on their nutritional and antioxidant value. Conversation throughout the workshop also includes fascinating topics that can be factors in everyone&#39\;s health and well being. For example:<br />\n	<br />\n	Are you aware that we can actually get too much iron and that it can lead to serious health issues? Do you know the most common source of too much iron?<br />\n	<br />\n	Are you aware that when you boil spinach\, you lose 51% of the B vitamin in 5 minutes of cooking?<br />\n	<br />\n	Are you aware that our body creates fat cells\, including cellulite\, to store excess acid in order to protect it from reaching our organs?<br />\n	<br />\n	If these types of questions are intriguing to you\, then our &quot\;Introduction to Whole Raw Food&quot\; workshop should be on your &quot\;to do&quot\; list! Come join us for 2 1/2 hours of engaging\, interactive discussion around the fascinating science of whole\, raw food!<br />\n	<br />\n	To register for this workshop go to <a href="http://wholerawfoodnow.com" target="_blank">www.WholeRawFoodNow.com</a> and click on <a href="http://wholerawfoodnow.com/workshops" target="_blank">Workshops</a>.<br />\n	&nbsp\;</p>\n<p>\n	<a href="http://wholerawfoodnow.com/images/WS_Flyer_intro1.pdf" target="_blank">Download the PDF flyer.</a></p>\n
LOCATION:2698 Camino Artemisa Alpine\, CA 91901
UID:e.895.512
SEQUENCE:3
DTSTAMP:20260421T211626Z
URL:https://business.eastcountychamber.org/events/details/march-intro-to-whole-raw-food-03-27-2011-512
END:VEVENT

END:VCALENDAR
