BEGIN:VCALENDAR
VERSION:2.0
PRODID:-//ChamberMaster//Event Calendar 2.0//EN
METHOD:PUBLISH
X-PUBLISHED-TTL:P3D
REFRESH-INTERVAL:P3D
CALSCALE:GREGORIAN
BEGIN:VEVENT
DTSTART:20220617T190000Z
DTEND:20220617T200000Z
X-MICROSOFT-CDO-ALLDAYEVENT:FALSE
SUMMARY:Membership Orientation
DESCRIPTION:FREE! Learn all the ways that the Chamber is here to support your Business!
X-ALT-DESC;FMTTYPE=text/html:<span style="box-sizing: border-box\; font-weight: bolder\; outline: 0px\; color: rgb(68\, 68\, 68)\; font-family: Arial\, Helvetica\, sans-serif\; font-size: 18px\;">FREE! Learn all the ways that the Chamber is here to support your Business!</span>
LOCATION:Chamber Office 201 S. Magnolia Ave. El Cajon\, CA 92020
UID:e.895.13944
SEQUENCE:3
DTSTAMP:20260421T182318Z
URL:https://business.eastcountychamber.org/events/details/membership-orientation-06-17-2022-13944
END:VEVENT

END:VCALENDAR
