BEGIN:VCALENDAR
VERSION:2.0
PRODID:-//ChamberMaster//Event Calendar 2.0//EN
METHOD:PUBLISH
X-PUBLISHED-TTL:P3D
REFRESH-INTERVAL:P3D
CALSCALE:GREGORIAN
BEGIN:VEVENT
DTSTART:20220916T190000Z
DTEND:20220916T200000Z
X-MICROSOFT-CDO-ALLDAYEVENT:FALSE
SUMMARY:Membership Orientation
DESCRIPTION:Join us at this FREE! event for an in-depth look at the Chamber's history\, happenings\, and ways we're here to help you connect and grow your business!
X-ALT-DESC;FMTTYPE=text/html:<span style="font-size:18px\;">Join us at this FREE! event for an in-depth look at the Chamber&#39\;s history\, happenings\, and ways we&#39\;re here to help you connect and grow your business!</span>
LOCATION:Chamber Office 201 S. Magnolia Ave. El Cajon\, CA 92020
UID:e.895.13947
SEQUENCE:3
DTSTAMP:20260421T105421Z
URL:https://business.eastcountychamber.org/events/details/membership-orientation-09-16-2022-13947
END:VEVENT

END:VCALENDAR
