BEGIN:VCALENDAR
VERSION:2.0
PRODID:-//ChamberMaster//Event Calendar 2.0//EN
METHOD:PUBLISH
X-PUBLISHED-TTL:P3D
REFRESH-INTERVAL:P3D
CALSCALE:GREGORIAN
BEGIN:VEVENT
DTSTART:20210917T190000Z
DTEND:20210917T200000Z
X-MICROSOFT-CDO-ALLDAYEVENT:FALSE
SUMMARY:Membership Orientation
DESCRIPTION:This is a FREE and IN-Person Orientation for new\, existing\, or prospective members. Come find out what the Chamber is all about and how we are here to support your business!
X-ALT-DESC;FMTTYPE=text/html:<span style="color: rgb(38\, 38\, 38)\; font-family: -apple-system\, BlinkMacSystemFont\, &quot\;Segoe UI&quot\;\, Roboto\, Helvetica\, Arial\, sans-serif\; font-size: 14px\;">This is a FREE and IN-Person Orientation for new\, existing\, or prospective members. Come find out what the Chamber is all about and how we are here to support your business!</span>
LOCATION:In the Chamber Business Resource Center 201 S Magnolia Ave\, El Cajon\, CA 92020
UID:e.895.10188
SEQUENCE:3
DTSTAMP:20260423T033403Z
URL:https://business.eastcountychamber.org/events/details/membership-orientation-09-17-2021-10188
END:VEVENT

END:VCALENDAR
