BEGIN:VCALENDAR
VERSION:2.0
PRODID:-//ChamberMaster//Event Calendar 2.0//EN
METHOD:PUBLISH
X-PUBLISHED-TTL:P3D
REFRESH-INTERVAL:P3D
CALSCALE:GREGORIAN
BEGIN:VEVENT
DTSTART:20210115T200000Z
DTEND:20210115T210000Z
X-MICROSOFT-CDO-ALLDAYEVENT:FALSE
SUMMARY:Membership Orientation
DESCRIPTION:
X-ALT-DESC;FMTTYPE=text/html:
LOCATION:Register to join the zoom meeting
UID:e.895.10168
SEQUENCE:3
DTSTAMP:20260424T040216Z
URL:https://business.eastcountychamber.org/events/details/membership-orientation-10168
END:VEVENT

END:VCALENDAR
