BEGIN:VCALENDAR
VERSION:2.0
PRODID:-//ChamberMaster//Event Calendar 2.0//EN
METHOD:PUBLISH
X-PUBLISHED-TTL:P3D
REFRESH-INTERVAL:P3D
CALSCALE:GREGORIAN
BEGIN:VEVENT
DTSTART:20200820T230000Z
DTEND:20200821T010000Z
X-MICROSOFT-CDO-ALLDAYEVENT:FALSE
SUMMARY:Military Family Resource Night
DESCRIPTION:An online symposium for all active duty\, veterans\, dependents\, and their families. It will serve as a one-stop-shop for education and military benefits/resources. You will have the opportunity to ask questions and get answers in a single online venue. CalVet will provide guidance and support in the educational fee waiver process
X-ALT-DESC;FMTTYPE=text/html:<span style="color:black\;"><span style="font-family:calibri\,sans-serif\;"><span style="font-size:11.0pt\;">An online symposium for all active duty\, veterans\, dependents\, and their families. It will serve as a one-stop-shop for education and military benefits/resources. You will have the opportunity&nbsp\;to&nbsp\;ask questions and get answers in a single online venue.&nbsp\;CalVet will provide guidance and support in the educational fee waiver process</span></span></span>
LOCATION:Registration Link: http://tiny.cc/gcmilitary Those interested will receive the Zoom link upon registering through our registration link (click on the link above).
UID:e.895.10072
SEQUENCE:3
DTSTAMP:20260424T123947Z
URL:https://business.eastcountychamber.org/events/details/military-family-resource-night-10072
END:VEVENT

END:VCALENDAR
