BEGIN:VCALENDAR
VERSION:2.0
PRODID:-//ChamberMaster//Event Calendar 2.0//EN
METHOD:PUBLISH
X-PUBLISHED-TTL:P3D
REFRESH-INTERVAL:P3D
CALSCALE:GREGORIAN
BEGIN:VEVENT
DTSTART:20210312T013000Z
DTEND:20210312T023000Z
X-MICROSOFT-CDO-ALLDAYEVENT:FALSE
SUMMARY:Mutli-Chamber St. Patrick's Day Mixer
DESCRIPTION:
X-ALT-DESC;FMTTYPE=text/html:
LOCATION:Virtual RSVP
UID:e.895.13337
SEQUENCE:3
DTSTAMP:20260424T011341Z
URL:https://business.eastcountychamber.org/events/details/mutli-chamber-st-patrick-s-day-mixer-13337
END:VEVENT

END:VCALENDAR
