BEGIN:VCALENDAR
VERSION:2.0
PRODID:-//ChamberMaster//Event Calendar 2.0//EN
METHOD:PUBLISH
X-PUBLISHED-TTL:P3D
REFRESH-INTERVAL:P3D
CALSCALE:GREGORIAN
BEGIN:VEVENT
DTSTART:20201009T003000Z
DTEND:20201009T013000Z
X-MICROSOFT-CDO-ALLDAYEVENT:FALSE
SUMMARY:Oktoberfest Virtual Mixer
DESCRIPTION:A DIGITAL CONNECTION DURING\n\nTIMES OF SOCIAL DISTANCING\n\nWHILE CELEBRATING OKTOBERFEST!
X-ALT-DESC;FMTTYPE=text/html:A DIGITAL CONNECTION DURING<br />\nTIMES OF SOCIAL DISTANCING<br />\nWHILE CELEBRATING OKTOBERFEST!
LOCATION:Virtual Please register to get access.
UID:e.895.10128
SEQUENCE:3
DTSTAMP:20260424T090541Z
URL:https://business.eastcountychamber.org/events/details/oktoberfest-virtual-mixer-10128
END:VEVENT

END:VCALENDAR
