BEGIN:VCALENDAR
VERSION:2.0
PRODID:-//ChamberMaster//Event Calendar 2.0//EN
METHOD:PUBLISH
X-PUBLISHED-TTL:P3D
REFRESH-INTERVAL:P3D
CALSCALE:GREGORIAN
BEGIN:VEVENT
DTSTART:20260417T003000Z
DTEND:20260417T023000Z
X-MICROSOFT-CDO-ALLDAYEVENT:FALSE
SUMMARY:OPT Mentor Night at Grossmont College
DESCRIPTION:
X-ALT-DESC;FMTTYPE=text/html:
LOCATION:Save The Date OPT Mentor Night is Thursday\, April 16\, 2026 Time: 5:30 7:30 PM Grossmont College\, Griffin Gate
UID:e.895.21997
SEQUENCE:3
DTSTAMP:20260423T215834Z
URL:https://business.eastcountychamber.org/events/details/opt-mentor-night-at-grossmont-college-21997
END:VEVENT

END:VCALENDAR
