BEGIN:VCALENDAR
VERSION:2.0
PRODID:-//ChamberMaster//Event Calendar 2.0//EN
METHOD:PUBLISH
X-PUBLISHED-TTL:P3D
REFRESH-INTERVAL:P3D
CALSCALE:GREGORIAN
BEGIN:VEVENT
DTSTART:20230303T200000Z
DTEND:20230303T213000Z
X-MICROSOFT-CDO-ALLDAYEVENT:FALSE
SUMMARY:POSTPONED - 3/3 Dine & Dialogue w/ Assemblymember Dr. Akilah Weber
DESCRIPTION:THIS EVENT HAS BEEN POSTPONED!\n\n\n\nSit down with Dr. Akilah Weber!\nDr. Akilah Weber was elected April 2021 to represent California's 79th Assembly District\, which includes La Mesa\, Lemon Grove\, Spring Valley/La Presa\, and parts of the cities of El Cajon and San Diego. Dr. Akilah Weber is a medical doctor\, educator\, former City Councilmember\, San Diego native\, and mom to two young boys.\n\nDr. Weber is a board-certified obstetrician/gynecologist\, and she is the founder and past director of the Pediatric & Adolescent Gynecology Division at Rady Children's Hospital-San Diego. She also served as an Assistant Clinical Professor in the Department of Obstetrics\, Gynecology & Reproductive Sciences at UCSD.
X-ALT-DESC;FMTTYPE=text/html:<span style="font-size:18px\;"><u><strong>THIS EVENT HAS BEEN POSTPONED!</strong></u><br />\n<br />\n<span style="font-size:12px\;">Sit down with Dr. Akilah Weber!</span></span>\n<p style="margin-top:0in\;background:white"><span style="font-family:&quot\;Segoe UI&quot\;\,sans-serif\;\ncolor:#4B545C"><span style="font-size:12px\;">Dr. Akilah Weber was elected April 2021 to repre</span>sent California&#39\;s 79th Assembly District\, which includes La Mesa\, Lemon Grove\, Spring Valley/La Presa\, and parts of the cities of El Cajon and San Diego. Dr. Akilah Weber is a medical doctor\, educator\, former City Councilmember\, San Diego native\, and mom to two young boys.<o:p></o:p></span></p>\n\n<p style="margin-top:0in\;background:white\;box-sizing: border-box\;margin-bottom:\n1rem\;font-variant-ligatures: normal\;font-variant-caps: normal\;orphans: 2\;\nwidows: 2\;-webkit-text-stroke-width: 0px\;text-decoration-thickness: initial\;\ntext-decoration-style: initial\;text-decoration-color: initial\;word-spacing:\n0px"><span style="font-family:&quot\;Segoe UI&quot\;\,sans-serif\;color:#4B545C">Dr. Weber is a board-certified obstetrician/gynecologist\, and she is the founder and past director of the Pediatric &amp\; Adolescent Gynecology Division at Rady Children&rsquo\;s Hospital-San Diego. She also served as an Assistant Clinical Professor in the Department of Obstetrics\, Gynecology &amp\; Reproductive Sciences at UCSD.<o:p></o:p></span></p>\n
LOCATION:THIS EVENT HAS BEEN POSTPONED! San Diego Regional East County Chamber of Commerce 201 S. Magnolia Ave. El Cajon\, CA 92020
UID:e.895.14583
SEQUENCE:3
DTSTAMP:20260420T122527Z
URL:https://business.eastcountychamber.org/events/details/postponed-3-3-dine-dialogue-w-assemblymember-dr-akilah-weber-14583
END:VEVENT

END:VCALENDAR
