BEGIN:VCALENDAR
VERSION:2.0
PRODID:-//ChamberMaster//Event Calendar 2.0//EN
METHOD:PUBLISH
X-PUBLISHED-TTL:P3D
REFRESH-INTERVAL:P3D
CALSCALE:GREGORIAN
BEGIN:VEVENT
DTSTART:20220909T000000Z
DTEND:20220909T023000Z
X-MICROSOFT-CDO-ALLDAYEVENT:FALSE
SUMMARY:POSTPONED 9/8 sElect
DESCRIPTION:THIS EVENT HAS BEEN POSTPONED\n\n\n\nThe San Diego Regional East County Chamber of Commerce invites you to attend an intimate sit-down with our region's Congress\, Senator\, Assembly\, and County Supervisor officials.\n\nCongressman Issa\n\nSupervisor Anderson\n\nSenator Brian Jones\n\nAssemblymember Voepel\n\nAssemblymember Waldron
X-ALT-DESC;FMTTYPE=text/html:<span style="font-size:20px\;"><span style="font-family:arial\;">THIS EVENT HAS BEEN POSTPONED<br />\n<br />\n<span style="font-size:14px\;">The San Diego Regional East County Chamber of Commerce invites you to attend an intimate sit-down with our region&#39\;s Congress\, Senator\, Assembly\, and County Supervisor officials.</span></span></span><br />\n<span style="font-size:14px\;"><span style="font-family:arial\;"><span style="color:black\;">Congressman Issa</span><br />\n<span style="color:black\;">Supervisor Anderson</span><br />\n<span style="color:black\;">Senator Brian Jones</span><br />\n<span style="color:black\;">Assemblymember Voepel</span><br />\n<span style="color:black\;">Assemblymember Waldron</span></span></span>
LOCATION:THIS EVENT HAS BEEN POSTPONED Ronald Reagan Community Center 195 East Douglas Ave. El Cajon\, CA 92020
UID:e.895.14119
SEQUENCE:3
DTSTAMP:20260421T104553Z
URL:https://business.eastcountychamber.org/events/details/postponed-9-8-select-14119
END:VEVENT

END:VCALENDAR
