BEGIN:VCALENDAR
VERSION:2.0
PRODID:-//ChamberMaster//Event Calendar 2.0//EN
METHOD:PUBLISH
X-PUBLISHED-TTL:P3D
REFRESH-INTERVAL:P3D
CALSCALE:GREGORIAN
BEGIN:VEVENT
DTSTART:20220625T003000Z
DTEND:20220625T033000Z
X-MICROSOFT-CDO-ALLDAYEVENT:FALSE
SUMMARY:POSTPONED Politics in Paradise
DESCRIPTION:THIS EVENT HAS BEEN POSTPONED TO FRIDAY\, SEPTEMBER 16\, 2022!!!!!\n\n\n\nSPONSOR THIS EVENT!\n\n\n\nCANDIDATE FORM
X-ALT-DESC;FMTTYPE=text/html:<u><strong><span style="font-size:16px\;"><span style="font-family:arial\;"><span style="font-size:22px\;">THIS EVENT HAS BEEN POSTPONED TO FRIDAY\, SEPTEMBER 16\, 2022!!!!!</span><br />\n<br />\n<a href="https://chambermaster.blob.core.windows.net/userfiles/UserFiles/chambers/895/File/2022PoliticsinParadiseSponsorshipForm.pdf">SPONSOR THIS EVENT!</a><br />\n<br />\n<a href="https://chambermaster.blob.core.windows.net/userfiles/UserFiles/chambers/895/File/CandidateForm.pdf">CANDIDATE FORM</a></span></span></strong></u>
LOCATION:The Water Conservation Garden Cuyamaca College 12122 Cuyamaca College Dr. W El Cajon\, CA 92019
UID:e.895.13938
SEQUENCE:3
DTSTAMP:20260421T214228Z
URL:https://business.eastcountychamber.org/events/details/postponed-politics-in-paradise-13938
END:VEVENT

END:VCALENDAR
