BEGIN:VCALENDAR
VERSION:2.0
PRODID:-//ChamberMaster//Event Calendar 2.0//EN
METHOD:PUBLISH
X-PUBLISHED-TTL:P3D
REFRESH-INTERVAL:P3D
CALSCALE:GREGORIAN
BEGIN:VEVENT
DTSTART:20210319T183000Z
DTEND:20210319T200000Z
X-MICROSOFT-CDO-ALLDAYEVENT:FALSE
SUMMARY:Property Tax Relief Workshop
DESCRIPTION:Has your business been impacted by COVID-19? Do you own your commercial property or rent? Have Business Property? You may be entitled to property tax relief. The San Diego County Assessor's Taxpayer Advocate Office is here to help you. Our office will review who can qualify for relief\, what you need to file\, and answer any questions you have to make property tax relief as easy as possible.
X-ALT-DESC;FMTTYPE=text/html:<span style="color: rgb(0\, 0\, 0)\; font-family: muliregular\, sans-serif\; font-size: 20px\;">Has your business been impacted by COVID-19? Do you own your commercial property or rent? Have Business Property? You may be entitled to property tax relief. The San Diego County Assessor&rsquo\;s Taxpayer Advocate Office is here to help you. Our office will review who can qualify for relief\, what you need to file\, and answer any questions you have to make property tax relief as easy as possible.</span>
LOCATION:Registration Required: https://sdchamber.org/event/prop-tax-relief/
UID:e.895.13436
SEQUENCE:3
DTSTAMP:20260424T011321Z
URL:https://business.eastcountychamber.org/events/details/property-tax-relief-workshop-13436
END:VEVENT

END:VCALENDAR
