BEGIN:VCALENDAR
VERSION:2.0
PRODID:-//ChamberMaster//Event Calendar 2.0//EN
METHOD:PUBLISH
X-PUBLISHED-TTL:P3D
REFRESH-INTERVAL:P3D
CALSCALE:GREGORIAN
BEGIN:VEVENT
DTSTART:20241022T144500Z
DTEND:20241022T160000Z
X-MICROSOFT-CDO-ALLDAYEVENT:FALSE
SUMMARY:Refer East County
DESCRIPTION:The San Diego Regional East County Chamber of Commerce offers a FREE networking group to our Chamber Members.  Promote yourself\, your brand\, your business while connecting with fellow business owners.
X-ALT-DESC;FMTTYPE=text/html:<span style="font-size:18px\;">The San Diego Regional East County Chamber of Commerce offers a FREE networking group to our Chamber Members.&nbsp\; Promote yourself\, your brand\, your business while connecting with fellow business owners.&nbsp\;</span>
LOCATION:as of April 2026 McGrath Family YMCA 12006 Campo Rd. Spring Valley\, CA 91935 *For Confirmation of Location and More Info\, please contact Jesslyn Ponce-Dick: 619-838-4633 | jponcedick@gmail.com
UID:e.895.15354
SEQUENCE:3
DTSTAMP:20260423T003602Z
URL:https://business.eastcountychamber.org/events/details/refer-east-county-10-22-2024-15354
END:VEVENT

END:VCALENDAR
