BEGIN:VCALENDAR
VERSION:2.0
PRODID:-//ChamberMaster//Event Calendar 2.0//EN
METHOD:PUBLISH
X-PUBLISHED-TTL:P3D
REFRESH-INTERVAL:P3D
CALSCALE:GREGORIAN
BEGIN:VEVENT
DTSTART:20221108T150000Z
DTEND:20221108T160000Z
X-MICROSOFT-CDO-ALLDAYEVENT:FALSE
SUMMARY:Refer East County
DESCRIPTION:
X-ALT-DESC;FMTTYPE=text/html:
LOCATION:Contact Jesslyn Ponce-Dick @ 619-838-4633 for Information
UID:e.895.13720
SEQUENCE:3
DTSTAMP:20260421T033213Z
URL:https://business.eastcountychamber.org/events/details/refer-east-county-11-08-2022-13720
END:VEVENT

END:VCALENDAR
