BEGIN:VCALENDAR
VERSION:2.0
PRODID:-//ChamberMaster//Event Calendar 2.0//EN
METHOD:PUBLISH
X-PUBLISHED-TTL:P3D
REFRESH-INTERVAL:P3D
CALSCALE:GREGORIAN
BEGIN:VEVENT
DTSTART:20221115T150000Z
DTEND:20221115T160000Z
X-MICROSOFT-CDO-ALLDAYEVENT:FALSE
SUMMARY:Refer East County
DESCRIPTION:
X-ALT-DESC;FMTTYPE=text/html:
LOCATION:Contact Jesslyn Ponce-Dick @ 619-838-4633 for Information
UID:e.895.13721
SEQUENCE:3
DTSTAMP:20260420T234425Z
URL:https://business.eastcountychamber.org/events/details/refer-east-county-11-15-2022-13721
END:VEVENT

END:VCALENDAR
