BEGIN:VCALENDAR
VERSION:2.0
PRODID:-//ChamberMaster//Event Calendar 2.0//EN
METHOD:PUBLISH
X-PUBLISHED-TTL:P3D
REFRESH-INTERVAL:P3D
CALSCALE:GREGORIAN
BEGIN:VEVENT
DTSTART:20201223T150000Z
DTEND:20201223T160000Z
X-MICROSOFT-CDO-ALLDAYEVENT:FALSE
SUMMARY:Refer East County
DESCRIPTION:Business Referral Group
X-ALT-DESC;FMTTYPE=text/html:Business Referral Group
LOCATION:Via ZOOM Contact Jesslyn Ponce-Dick at ponce-dick@cox.net
UID:e.895.10126
SEQUENCE:3
DTSTAMP:20260424T054834Z
URL:https://business.eastcountychamber.org/events/details/refer-east-county-12-23-2020-10126
END:VEVENT

END:VCALENDAR
