BEGIN:VCALENDAR
VERSION:2.0
PRODID:-//ChamberMaster//Event Calendar 2.0//EN
METHOD:PUBLISH
X-PUBLISHED-TTL:P3D
REFRESH-INTERVAL:P3D
CALSCALE:GREGORIAN
BEGIN:VEVENT
DTSTART:20260128T213000Z
DTEND:20260128T230000Z
X-MICROSOFT-CDO-ALLDAYEVENT:FALSE
SUMMARY:Salary Negotiation Workshop (Virtual)
DESCRIPTION:Knowing how to negotiate salary offers is a valuable skill that can increase your earning potential throughout your career. Learn how to research salary ranges\, ask for compensation packages and ensure you are being paid what you are worth.
X-ALT-DESC;FMTTYPE=text/html:<span style="font-family: &quot\;Work Sans&quot\;\, sans-serif\; font-size: 16px\;">Knowing how to negotiate salary offers is a valuable skill that can increase your earning potential throughout your career. Learn how to research salary ranges\, ask for compensation packages and ensure you are being paid what you are worth.</span>
LOCATION:ZOOM: We're going to be broadcasting live via Zoom. Please download and install Zoom now to the device of your choice. Don't worry\, Zoom accounts are free. Here is a helpful guide to get you started. Already have Zoom installed? Please check for software updates\, because they release new versions all the time.
UID:e.895.21865
SEQUENCE:3
DTSTAMP:20260424T053239Z
URL:https://business.eastcountychamber.org/events/details/salary-negotiation-workshop-virtual-21865
END:VEVENT

END:VCALENDAR
