BEGIN:VCALENDAR
VERSION:2.0
PRODID:-//ChamberMaster//Event Calendar 2.0//EN
METHOD:PUBLISH
X-PUBLISHED-TTL:P3D
REFRESH-INTERVAL:P3D
CALSCALE:GREGORIAN
BEGIN:VEVENT
DTSTART:20110305T020000Z
DTEND:20110305T033000Z
X-MICROSOFT-CDO-ALLDAYEVENT:FALSE
SUMMARY:Salon Series - Knox House Museum
DESCRIPTION:Salon Series  - Second in a series of casual gatherings in Amaziah's parlor at the Knox House Museum:  local author\, Houston M. Burnside\, will discuss and sign his book\, "The Pew-Sitter's Search for God."  Mr. Burnside begins his story with lying about his age to join the Marine Corps at 15 and serving in Guam\, Alaska\, and China in the mid-1940s. Friday\, March 4\, 6-7:30 pm\, 280 N. Magnolia Ave\, El Cajon\, elcajonhistory.org. Info: 619.504.6301.
X-ALT-DESC;FMTTYPE=text/html:<span style="font-weight: bold">Salon Series&nbsp\;</span> - Second in a series of casual gatherings in Amaziah&#39\;s parlor at the Knox House Museum:&nbsp\; local author\, Houston M. Burnside\, will discuss and sign his book\, &quot\;The Pew-Sitter&#39\;s Search for God.&quot\;&nbsp\; Mr. Burnside begins his story with lying about his age to join the Marine Corps at 15 and serving in Guam\, Alaska\, and China in the mid-1940s. Friday\, March 4\, <span style="text-decoration: underline">6-7:30 pm</span>\, <span class="yshortcuts" id="lw_1298565364_5" style="border-bottom: rgb(54\,99\,136) 2px dotted\; background: none transparent scroll repeat 0% 0%\; cursor: pointer">280 N. Magnolia Ave\, El Cajon</span>\, elcajonhistory.org. Info: 619.504.6301.<br />\n<div>\n	&nbsp\;<span _fck_bookmark="1" style="display: none">&nbsp\;</span></div>\n
LOCATION:
UID:e.895.494
SEQUENCE:3
DTSTAMP:20260421T211625Z
URL:https://business.eastcountychamber.org/events/details/salon-series-knox-house-museum-03-04-2011-494
END:VEVENT

END:VCALENDAR
