BEGIN:VCALENDAR
VERSION:2.0
PRODID:-//ChamberMaster//Event Calendar 2.0//EN
METHOD:PUBLISH
X-PUBLISHED-TTL:P3D
REFRESH-INTERVAL:P3D
CALSCALE:GREGORIAN
BEGIN:VEVENT
DTSTART:20110312T020000Z
DTEND:20110312T040000Z
X-MICROSOFT-CDO-ALLDAYEVENT:FALSE
SUMMARY:San Diego Facial Rejuvination Grand Opening Party
DESCRIPTION:Join us Friday\, March 11th from 6-8 p.m. as we celebrate the Grand Opening of San Diego Facial Rejuvination Center located at 1240 Broadway\, Suite #201\, El Cajon\, CA.  92021.
X-ALT-DESC;FMTTYPE=text/html:Join us Friday\, March 11th from 6-8 p.m. as we celebrate the Grand Opening of San Diego Facial Rejuvination Center located at 1240 Broadway\, Suite #201\, El Cajon\, CA.&nbsp\; 92021.
LOCATION:1240 Broadway\, Suite #201\, El Cajon.
UID:e.895.498
SEQUENCE:3
DTSTAMP:20260421T212048Z
URL:https://business.eastcountychamber.org/events/details/san-diego-facial-rejuvination-grand-opening-party-03-11-2011-498
END:VEVENT

END:VCALENDAR
