BEGIN:VCALENDAR
VERSION:2.0
PRODID:-//ChamberMaster//Event Calendar 2.0//EN
METHOD:PUBLISH
X-PUBLISHED-TTL:P3D
REFRESH-INTERVAL:P3D
CALSCALE:GREGORIAN
BEGIN:VEVENT
DTSTART:20260130T220000Z
DTEND:20260131T000000Z
X-MICROSOFT-CDO-ALLDAYEVENT:FALSE
SUMMARY:Santee Community Center Ground Breaking
DESCRIPTION:Santee Community Center Project \n\nA new 12\,500-square-foot\, two-story Community Center is on the way. The building will offer flexible indoor rooms\, outdoor patios\, and space for a wide range of activities. Once open\, the center will support programs for active older adults\, families\, and youth. Creating opportunities for connection through shared experiences and memorable moments. \n\n\n\nConstruction Schedule \n\nPhase 1 - Parking lot construction in front of the YMCA/Santee Aquatics Center \n\nPhase 2 - Community Center Construction\n\n\n\nQuestions? \n\n(619) 258-4100 x222 I www.cityofsanteeca.gov
X-ALT-DESC;FMTTYPE=text/html:<span style="font-size:20px\;"><span style="font-size:22px\;"><strong>Santee Community Center Project&nbsp\;</strong></span><br />\nA new 12\,500-square-foot\, two-story Community Center is on the way. The building will offer flexible indoor rooms\, outdoor patios\, and space for a wide range of activities. Once open\, the center will support programs for active older adults\, families\, and youth. Creating opportunities for connection through shared experiences and memorable moments.&nbsp\;<br />\n<br />\n<span style="font-size:22px\;"><strong>Construction Schedule&nbsp\;</strong></span><br />\n<strong>Phase 1</strong> - Parking lot construction in front of the YMCA/Santee Aquatics Center&nbsp\;<br />\n<strong>Phase 2</strong> - Community Center Construction<br />\n<br />\n<strong>Questions?&nbsp\;</strong><br />\n(619) 258-4100 x222 I www.cityofsanteeca.gov&nbsp\;&nbsp\;</span>
LOCATION:10129 Riverwalk Drive Santee\, CA 92071 Parking Info Parking at the YMCA lot (10123 Riverwalk Drive\, Santee\, CA 92071) will be limited. Town Center Community Park East (550 Park Center Drive\, Santee CA 92071) has overflow parking with access via the footbridge.
UID:e.895.21885
SEQUENCE:3
DTSTAMP:20260424T053427Z
URL:https://business.eastcountychamber.org/events/details/santee-community-center-ground-breaking-21885
END:VEVENT

END:VCALENDAR
