BEGIN:VCALENDAR
VERSION:2.0
PRODID:-//ChamberMaster//Event Calendar 2.0//EN
METHOD:PUBLISH
X-PUBLISHED-TTL:P3D
REFRESH-INTERVAL:P3D
CALSCALE:GREGORIAN
BEGIN:VEVENT
DTSTART:20260523T170000Z
DTEND:20260524T010000Z
X-MICROSOFT-CDO-ALLDAYEVENT:FALSE
SUMMARY:Santee Street Fair & Craft Beer Festival
DESCRIPTION:
X-ALT-DESC;FMTTYPE=text/html:
LOCATION:Santee Street Fair & Craft Beer Festival The Santee Street Fair & Craft Beer Festival is one of the largest community events in Santee\, California\, bringing over 30\,000 attendees together each year. As the ultimate one-day block party over Memorial Day weekend\, this East County San Diego tradition delivers a full day of family-friendly fun\, local entertainment\, and community connection. Proudly produced by the Santee Chamber of Commerce\, the event highlights local businesses\, food\, music\, and the unique spirit of Santee. Produced by the Santee Chamber of Commerce\, supporting local businesses and community growth. At the Santee Street Fair\, you can enjoy: 300+ vendor booths featuring shopping\, food\, and local businesses A Craft Beer Festival with local and regional breweries Live music and entertainment throughout the day A Kids Zone with activities for families Community performances and interactive experiences If you're searching for things to do in Santee or events in San Diego over Memorial Day weekend\, the Santee Street Fair is a must-attend. Supporting Local Businesses & the Santee Community The Santee Street Fair is built to do more than bring people together it creates real opportunities for local businesses to grow and connect within the Santee community. Led by the Santee Chamber of Commerce\, the event focuses on strengthening relationships between businesses\, residents\, and visitors from across East County San Diego. For businesses in Santee and throughout San Diego County\, the Street Fair offers a rare opportunity to engage with thousands of attendees in a single day building visibility\, trust\, and long-term customer relationships. This is where local businesses are seen\, where connections are made\, and where the Santee community continues to grow stronger year after year. Whether you're attending with family or participating as a vendor\, the Santee Street Fair remains one of the most meaningful community events in Santee.
UID:e.895.22102
SEQUENCE:3
DTSTAMP:20260424T020545Z
URL:https://business.eastcountychamber.org/events/details/santee-street-fair-craft-beer-festival-22102
END:VEVENT

END:VCALENDAR
