BEGIN:VCALENDAR
VERSION:2.0
PRODID:-//ChamberMaster//Event Calendar 2.0//EN
METHOD:PUBLISH
X-PUBLISHED-TTL:P3D
REFRESH-INTERVAL:P3D
CALSCALE:GREGORIAN
BEGIN:VEVENT
DTSTART:20251017T180000Z
DTEND:20251017T210000Z
X-MICROSOFT-CDO-ALLDAYEVENT:FALSE
SUMMARY:SAVE THE DATE - WILL 2025
DESCRIPTION:On Friday\, October 17\, 2025\, the San Diego Regional East County Chamber of Commerce will be celebrating its 23nd Annual Women in Leadership event at Sycuan Casino Resort. In 2003 the first Women in Leadership Luncheon (WILL) was launched with the idea of honoring women who excel professionally and as community leaders. The successful women of San Diego County\, along with our inspirational keynote speakers\, keep WILL growing year after year. The heart of WILL centers around each years' nominees: women who demonstrate exemplary character\, integrity\, and leadership. The roster of awardees over the past 22 years is a genuine San Diego honor roll. \n\n\n\nPARKING: Self-Parking is available in the parking structure. Valet is reserved for hotel guests and black card members.\n\nBAR: There will be a no-host bar. Cards and cash will be accepted.\n\n\n\nSUCCULENTS: WILL Committee Members will be selling succulents . When you purchase a succulent\, you will also receive a gift card. Limited and sure to go fast! Cards and cash will be accepted.\n\n\n\nOPPORTUNITY DRAWING: Tickets will be available for purchase (1 for $5 / 5 for $20 / 10 for $30 / Arm Length $60). Cards and cash will be accepted.\n\n\n\nATTENDANCE: Event is 21+ (unless arranged ahead of time).
X-ALT-DESC;FMTTYPE=text/html:<span style="color: rgb(0\, 0\, 0)\; font-family: Verdana\, Geneva\, sans-serif\; white-space-collapse: preserve\; font-size: 18px\;"><span style="font-family: arial\;">On Friday\, October 17\, 2025\, the San Diego Regional East County Chamber of Commerce will be celebrating its 23nd Annual Women in Leadership event at Sycuan Casino Resort. In 2003 the first Women in Leadership Luncheon (WILL) was launched with the idea of honoring women who excel professionally and as community leaders. The successful women of San Diego County\, along with our inspirational keynote speakers\, keep WILL growing year after year. The heart of WILL centers around each years&#39\; nominees: women who demonstrate exemplary character\, integrity\, and leadership. The roster of awardees over the past 22 years is a genuine San Diego honor roll. </span></span><br style="color: rgb(0\, 0\, 0)\; font-family: Verdana\, Geneva\, sans-serif\; font-size: 14px\; white-space-collapse: preserve\;" />\n<br />\n<span style="color: rgb(0\, 0\, 0)\; font-family: Verdana\, Geneva\, sans-serif\; white-space-collapse: preserve\; font-size: 18px\;"><span style="font-family: arial\;"><span class="JsGRdQ">PARKING: Self-Parking is available in the parking structure. Valet is reserved for hotel guests and black card members.<br />\nBAR: There will be a no-host bar. Cards and cash will be accepted.</span><br />\n<br />\nSUCCULENTS: WILL Committee Members will be selling succulents . When you purchase a succulent\, you will also receive a gift card. Limited and sure to go fast! Cards and cash will be accepted.<br />\n<br />\nOPPORTUNITY DRAWING: Tickets will be available for purchase (1 for $5 / 5 for $20 / 10 for $30 / Arm Length $60). Cards and cash will be accepted.<br />\n<br />\nATTENDANCE: Event is 21+ (unless arranged ahead of time).</span></span>
LOCATION:Sycuan Casino Resort 5469 Casino Way El Cajon\, CA 92019
UID:e.895.18382
SEQUENCE:3
DTSTAMP:20260424T102948Z
URL:https://business.eastcountychamber.org/events/details/save-the-date-will-2025-18382
END:VEVENT

END:VCALENDAR
