BEGIN:VCALENDAR
VERSION:2.0
PRODID:-//ChamberMaster//Event Calendar 2.0//EN
METHOD:PUBLISH
X-PUBLISHED-TTL:P3D
REFRESH-INTERVAL:P3D
CALSCALE:GREGORIAN
BEGIN:VEVENT
DTSTART:20260502T170000Z
DTEND:20260502T220000Z
X-MICROSOFT-CDO-ALLDAYEVENT:FALSE
SUMMARY:Spring Market
DESCRIPTION:Our newest event\, the Spring Market\, was inspired by the success of our Ladies at the Lake Fall Market and this time we're expanding the experience\, it's not just for the ladies.\n\nWe're curating a vibrant mix of talented vendors\, bringing handcrafted pieces\, unique finds\, and specialty goods that offer something for everyone. This inclusive\, well-rounded market is designed to appeal to all guests and showcase a diverse range items.\n\nKnow the perfect vendor for this event? Feel free to pass on this info. First call will be posted to social on January 5\, 2026.\n\nEvent date: Saturday May 2\, 2026 | 10AM-3PM
X-ALT-DESC;FMTTYPE=text/html:<p>Our newest event\, the Spring Market\, was inspired by the success of our Ladies at the Lake Fall Market&mdash\;and this time we&rsquo\;re expanding the experience\, it&#39\;s not just for the ladies.</p>\n\n<p>We&rsquo\;re curating a vibrant mix of talented vendors\, bringing handcrafted pieces\, unique finds\, and specialty goods that offer something for everyone. This inclusive\, well-rounded market is designed to appeal to all guests and showcase a diverse range items.</p>\n\n<p>Know the perfect vendor for this event? Feel free to pass on this info. First call will be posted to social on January 5\, 2026.</p>\n\n<p>Event date: Saturday May 2\, 2026 | 10AM-3PM</p>\n
LOCATION:9310 Fanita Parkway\, Santee\, CA 92071
UID:e.895.21876
SEQUENCE:3
DTSTAMP:20260423T181723Z
URL:https://business.eastcountychamber.org/events/details/spring-market-21876
END:VEVENT

END:VCALENDAR
