BEGIN:VCALENDAR
VERSION:2.0
PRODID:-//ChamberMaster//Event Calendar 2.0//EN
METHOD:PUBLISH
X-PUBLISHED-TTL:P3D
REFRESH-INTERVAL:P3D
CALSCALE:GREGORIAN
BEGIN:VEVENT
DTSTART:20201121T170000Z
DTEND:20201123T000000Z
X-MICROSOFT-CDO-ALLDAYEVENT:FALSE
SUMMARY:Sprites of East County
DESCRIPTION:Help make a difference in life of a school child living without access to technology.
X-ALT-DESC;FMTTYPE=text/html:Help make a difference in life of a school child living without access to technology.&nbsp\;
LOCATION:East County Chamber of Commerce (Parking lot) 201 S. Magnolia Ave.\, El Cajon\, CA 92020
UID:e.895.10134
SEQUENCE:3
DTSTAMP:20260424T073051Z
URL:https://business.eastcountychamber.org/events/details/sprites-of-east-county-10134
END:VEVENT

END:VCALENDAR
