BEGIN:VCALENDAR
VERSION:2.0
PRODID:-//ChamberMaster//Event Calendar 2.0//EN
METHOD:PUBLISH
X-PUBLISHED-TTL:P3D
REFRESH-INTERVAL:P3D
CALSCALE:GREGORIAN
BEGIN:VEVENT
DTSTART:20200813T210000Z
DTEND:20200813T230000Z
X-MICROSOFT-CDO-ALLDAYEVENT:FALSE
SUMMARY:St. Paul's Pace Summer Fun Drive
DESCRIPTION:Join us for a fun Summer drive by at St. Paul's PACE El Cajon. For\n\nthe first  me St. Paul's PACE will be collecting fans for our lower\n\nincome seniors to help them beat the heat this summer!
X-ALT-DESC;FMTTYPE=text/html:Join us for a fun Summer drive by at St. Paul&rsquo\;s PACE El Cajon. For<br />\nthe first &#1048991\;me St. Paul&rsquo\;s PACE will be collecting fans for our lower<br />\nincome seniors to help them beat the heat this summer!
LOCATION:St. Paul's PACE 1306 Broadway El Cajon\, CA 92021
UID:e.895.10062
SEQUENCE:3
DTSTAMP:20260424T123548Z
URL:https://business.eastcountychamber.org/events/details/st-paul-s-pace-summer-fun-drive-10062
END:VEVENT

END:VCALENDAR
