BEGIN:VCALENDAR
VERSION:2.0
PRODID:-//ChamberMaster//Event Calendar 2.0//EN
METHOD:PUBLISH
X-PUBLISHED-TTL:P3D
REFRESH-INTERVAL:P3D
CALSCALE:GREGORIAN
BEGIN:VEVENT
DTSTART:20260424T190000Z
DTEND:20260424T220000Z
X-MICROSOFT-CDO-ALLDAYEVENT:FALSE
SUMMARY:Staples Kearny Mesa Block Party & Ribbon Cutting
DESCRIPTION:
X-ALT-DESC;FMTTYPE=text/html:
LOCATION:Staples Kearney Mesa Block Party & Ribbon Cutting! 4240 Kearny Mesa Rd Suite 120 Kearny Mesa\, CA 92111 We're putting together a Block Party at our Staples Kearny Mesa location this Friday the 24th from 12:00 PM to 3:00 PM. With how busy things have been around San Diego\, we thought this would be a great opportunity to bring the community together\, have some fun\, and showcase what we're doing in-store. I would be great to have you stop by and join us. Join the Chamber in welcoming them with a Ribbon Cutting ceremony! Thanks in advance for your support\, and hope to see you there! Jhankarlo Lopez General Manager 4240 Kearny Mesa Rd\, Kearny Mesa\, CA 92111 858-279-0355 Jhankarlo.lopez@staples.com
UID:e.895.22098
SEQUENCE:3
DTSTAMP:20260423T040703Z
URL:https://business.eastcountychamber.org/events/details/staples-kearny-mesa-block-party-ribbon-cutting-22098
END:VEVENT

END:VCALENDAR
