BEGIN:VCALENDAR
VERSION:2.0
PRODID:-//ChamberMaster//Event Calendar 2.0//EN
METHOD:PUBLISH
X-PUBLISHED-TTL:P3D
REFRESH-INTERVAL:P3D
CALSCALE:GREGORIAN
BEGIN:VEVENT
DTSTART:20260426T000000Z
DTEND:20260426T030000Z
X-MICROSOFT-CDO-ALLDAYEVENT:FALSE
SUMMARY:Student Choreography Showcase @ Jibe Studios - M.O.V.E: Making Our Visions Emerge
DESCRIPTION:
X-ALT-DESC;FMTTYPE=text/html:
LOCATION:Our Student Choreography showcase is right around the corner! JIBE Studios Crew Presents: M.O.V.E.: Making Our Visions Emerge A Student Choreography Showcase April 25th\, 2026 @ 5:00 PM | Greenfield Middle School\, El Cajon\, CA Contact: Abby Neves\, abby@jibestudios.com
UID:e.895.22099
SEQUENCE:3
DTSTAMP:20260422T052337Z
URL:https://business.eastcountychamber.org/events/details/student-choreography-showcase-jibe-studios-m-o-v-e-making-our-visions-emerge-22099
END:VEVENT

END:VCALENDAR
