BEGIN:VCALENDAR
VERSION:2.0
PRODID:-//ChamberMaster//Event Calendar 2.0//EN
METHOD:PUBLISH
X-PUBLISHED-TTL:P3D
REFRESH-INTERVAL:P3D
CALSCALE:GREGORIAN
BEGIN:VEVENT
DTSTART;VALUE=DATE:20100625
DTEND;VALUE=DATE:20100628
TRANSP:TRANSPARENT
X-MICROSOFT-CDO-ALLDAYEVENT:TRUE
SUMMARY:Sunroad Automotive 500 Mega Markdown Event
DESCRIPTION:BIGGEST SALE OF THE YEAR!!!  3 Days Only\n\n\n    BMW South County\n\n\n    875 El Cajon Blvd.\, El Cajon\n\n\n    June 25\, 26 & 27th\n\n\n    For information\, contact Anne Patou at (619) 248-3955
X-ALT-DESC;FMTTYPE=text/html:<p align="center">\n    <font color="blue" size="5" face="Tahoma"><em>BIGGEST SALE OF THE YEAR!!!&nbsp\; 3 Days Only</em></font>\n</p>\n<p align="center">\n    <font color="black" size="4" face="Tahoma">BMW South County</font>\n</p>\n<p align="center">\n    <font color="black" size="4" face="Tahoma">875 El Cajon Blvd.\, El Cajon</font>\n</p>\n<p align="center">\n    <font color="black" size="4" face="Tahoma">June 25\, 26 &amp\; 27th</font>\n</p>\n<p align="center">\n    <font color="black" size="4" face="Tahoma">For information\, contact Anne Patou at (619) 248-3955</font>\n</p>
LOCATION:
UID:e.895.386
SEQUENCE:3
DTSTAMP:20260422T232614Z
URL:https://business.eastcountychamber.org/events/details/sunroad-automotive-500-mega-markdown-event-06-25-2010-386
END:VEVENT

END:VCALENDAR
