BEGIN:VCALENDAR
VERSION:2.0
PRODID:-//ChamberMaster//Event Calendar 2.0//EN
METHOD:PUBLISH
X-PUBLISHED-TTL:P3D
REFRESH-INTERVAL:P3D
CALSCALE:GREGORIAN
BEGIN:VEVENT
DTSTART:20251019T000000Z
DTEND:20251019T023000Z
X-MICROSOFT-CDO-ALLDAYEVENT:FALSE
SUMMARY:The Garden Goes Batty
DESCRIPTION:The Garden Goes Batty! Bring the whole family for a spooky\, fun-filled evening at The Water Conservation Garden! Enjoy trick-or-treating along our ghostly\, family-friendly trails\, wear your favorite costume\, and don't forget your trick-or-treat bucket.\n\nThis year's event features an interactive bat show with Ms. Smarty-Plants \, highlighting the importance of these amazing (and often misunderstood) creatures. Plus\, enjoy live Halloween music from local youth rock band Epidural for an evening that's both educational and entertaining.\n\n? Costumes encouraged   Family-friendly fun   Candy & activities throughout the Garden ?\n\n?? Tickets: $15 Members (with code)\, $18 Non-Members\, kids under 2 are free (Eventbrite service fees apply to all tickets\, including discounted tickets)
X-ALT-DESC;FMTTYPE=text/html:<p><strong>The Garden Goes Batty!&nbsp\;</strong>Bring the whole family for a spooky\, fun-filled evening at The Water Conservation Garden! Enjoy trick-or-treating along our ghostly\, family-friendly trails\, wear your favorite costume\, and don&rsquo\;t forget your trick-or-treat bucket.</p>\n\n<p>This year&rsquo\;s event features an&nbsp\;<strong>interactive bat show with Ms. Smarty-Plants&trade\;</strong>\, highlighting the importance of these amazing (and often misunderstood) creatures. Plus\, enjoy&nbsp\;<strong>live Halloween music from local youth rock band Epidural</strong>&nbsp\;for an evening that&rsquo\;s both educational and entertaining.</p>\n\n<p>? Costumes encouraged &bull\; Family-friendly fun &bull\; Candy &amp\; activities throughout the Garden ?</p>\n\n<p>?? Tickets: $15 Members (with code)\, $18 Non-Members\, kids under 2 are free&nbsp\;<em>(Eventbrite service fees apply to all tickets\, including discounted tickets)</em></p>\n
LOCATION:The Water Conservation Garden 12122 Cuyamaca College Drive West El Cajon\, CA 92019
UID:e.895.21071
SEQUENCE:3
DTSTAMP:20260424T103421Z
URL:https://business.eastcountychamber.org/events/details/the-garden-goes-batty-21071
END:VEVENT

END:VCALENDAR
