BEGIN:VCALENDAR
VERSION:2.0
PRODID:-//ChamberMaster//Event Calendar 2.0//EN
METHOD:PUBLISH
X-PUBLISHED-TTL:P3D
REFRESH-INTERVAL:P3D
CALSCALE:GREGORIAN
BEGIN:VEVENT
DTSTART:20260203T200000Z
DTEND:20260203T210000Z
X-MICROSOFT-CDO-ALLDAYEVENT:FALSE
SUMMARY:The Veteran Business Owners' Guide to Funded Hiring and Upskilling
DESCRIPTION:How Veteran-Owned Businesses Can Use Funded Apprenticeships to Scale at Zero Training Cost\n\n?As a Veteran Business Owner\, you know that your mission is only as strong as your team. But in today's market\, finding and training technical talent is expensive and high-risk.\n\n?UMGC is inviting Veteran Business Owners and Organizations to a strategic briefing on Funded Apprenticeships. This isn't just a "training program" it is a program designed to help you hire\, upskill\, and retain a high-tier workforce using funding.\n\n?The Strategic Advantage for Vets\n\n?? Industry-Specific Training: Apprentices receive cutting-edge skills in Digital Marketing\, Data Analytics\, Web Development\, and IT Technician roles.\n\n?? Financial Support: Benefit from funded training and potential salary subsidies to reduce hiring costs.\n\n?? Workforce Development Strategies: Learn how apprenticeships can provide a direct pipeline of skilled professionals to strengthen your team.\n\n?Bonus: Did you know apprentices also earn college credits while training? This ensures they bring both practical skills and academic knowledge into your business.\n\n\n\nDon't miss out on this opportunity to build your dream team with the support of funded apprenticeships!
X-ALT-DESC;FMTTYPE=text/html:<p>How Veteran-Owned Businesses Can Use Funded Apprenticeships to Scale at Zero Training Cost</p>\n\n<p>?As a Veteran Business Owner\, you know that your mission is only as strong as your team. But in today&rsquo\;s market\, finding and training technical talent is expensive and high-risk.</p>\n\n<p>?UMGC is inviting Veteran Business Owners and Organizations to a strategic briefing on Funded Apprenticeships. This isn&#39\;t just a &quot\;training program&quot\;&mdash\;it is a program designed to help you hire\, upskill\, and retain a high-tier workforce using funding.</p>\n\n<p>?The Strategic Advantage for Vets</p>\n\n<p>?? Industry-Specific Training: Apprentices receive cutting-edge skills in Digital Marketing\, Data Analytics\, Web Development\, and IT Technician roles.</p>\n\n<p>?? Financial Support: Benefit from funded training and potential salary subsidies to reduce hiring costs.</p>\n\n<p>?? Workforce Development Strategies: Learn how apprenticeships can provide a direct pipeline of skilled professionals to strengthen your team.</p>\n\n<p>?Bonus: Did you know apprentices also earn college credits while training? This ensures they bring both practical skills and academic knowledge into your business.<br />\n<br />\nDon&rsquo\;t miss out on this opportunity to build your dream team with the support of funded apprenticeships!</p>\n
LOCATION:zoom
UID:e.895.21879
SEQUENCE:3
DTSTAMP:20260424T022425Z
URL:https://business.eastcountychamber.org/events/details/the-veteran-business-owners-guide-to-funded-hiring-and-upskilling-21879
END:VEVENT

END:VCALENDAR
