BEGIN:VCALENDAR
VERSION:2.0
PRODID:-//ChamberMaster//Event Calendar 2.0//EN
METHOD:PUBLISH
X-PUBLISHED-TTL:P3D
REFRESH-INTERVAL:P3D
CALSCALE:GREGORIAN
BEGIN:VEVENT
DTSTART:20100918T180000Z
DTEND:20100918T201500Z
X-MICROSOFT-CDO-ALLDAYEVENT:FALSE
SUMMARY:Tour of Knox House Museum
DESCRIPTION:Free Tours of Knox House Museum - Call 619.444.3800 or www.elcajonhiistory.org
X-ALT-DESC;FMTTYPE=text/html:Free Tours of Knox House Museum - Call 619.444.3800 or www.elcajonhiistory.org
LOCATION:
UID:e.895.407
SEQUENCE:3
DTSTAMP:20260422T230234Z
URL:https://business.eastcountychamber.org/events/details/tour-of-knox-house-museum-09-18-2010-407
END:VEVENT

END:VCALENDAR
