BEGIN:VCALENDAR
VERSION:2.0
PRODID:-//ChamberMaster//Event Calendar 2.0//EN
METHOD:PUBLISH
X-PUBLISHED-TTL:P3D
REFRESH-INTERVAL:P3D
CALSCALE:GREGORIAN
BEGIN:VEVENT
DTSTART:20211208T210000Z
DTEND:20211208T223000Z
X-MICROSOFT-CDO-ALLDAYEVENT:FALSE
SUMMARY:VECA - Invite a Veteran Business to Lunch!
DESCRIPTION:Veterans East County Alliance will be meeting every second Wednesday of the month\, from 1:00-2:30PM at the San Diego Regional East County Chamber of Commerce.\n\n \n\nWe are a diversified group of elected officials\, cities\, businesses\, schools\, and Veteran organizations who meet to address Veteran businesses\, employment and resources. We welcome new members to join our passion and efforts to create a strong Veteran East County Alliance program.  \n\n \n\nEmail: susanr@eastcountychamber.org for more information!
X-ALT-DESC;FMTTYPE=text/html:<div style="color: rgb(64\, 63\, 66)\; font-family: Arial\, Verdana\, Helvetica\, sans-serif\; font-size: 12px\; white-space: pre-wrap\; text-align: center\;"><span style="font-size: 16px\; color: rgb(0\, 0\, 0)\; font-family: Raleway\, sans-serif\; font-weight: bold\;">Veterans East County Alliance</span><span style="font-size: 16px\; color: rgb(0\, 0\, 0)\; font-family: Raleway\, sans-serif\;"> will be meeting </span><span style="font-size: 16px\; color: rgb(0\, 0\, 0)\; font-family: Raleway\, sans-serif\; text-decoration-line: underline\;">every second Wednesday of the month</span><span style="font-size: 16px\; color: rgb(0\, 0\, 0)\; font-family: Raleway\, sans-serif\;">\, from 1:00-2:30PM at the San Diego Regional East County Chamber of Commerce.</span></div>\n\n<div style="color: rgb(64\, 63\, 66)\; font-family: Arial\, Verdana\, Helvetica\, sans-serif\; font-size: 12px\; white-space: pre-wrap\; text-align: center\;">&nbsp\;</div>\n\n<div style="color: rgb(64\, 63\, 66)\; font-family: Arial\, Verdana\, Helvetica\, sans-serif\; font-size: 12px\; white-space: pre-wrap\; text-align: center\;"><span style="font-size: 16px\; color: rgb(0\, 0\, 0)\; font-family: Raleway\, sans-serif\;">We are a diversified group of elected officials\, cities\, businesses\, schools\, and Veteran organizations who meet to address Veteran businesses\, employment and resources.&nbsp\;We welcome new&nbsp\;members to join our passion and efforts to create a </span><span style="font-size: 16px\; color: rgb(0\, 0\, 0)\; font-family: Raleway\, sans-serif\; font-weight: bold\;">strong Veteran East County Alliance program.&nbsp\;&nbsp\;</span></div>\n\n<div style="color: rgb(64\, 63\, 66)\; font-family: Arial\, Verdana\, Helvetica\, sans-serif\; font-size: 12px\; white-space: pre-wrap\; text-align: center\;">&nbsp\;</div>\n\n<div style="color: rgb(64\, 63\, 66)\; font-family: Arial\, Verdana\, Helvetica\, sans-serif\; font-size: 12px\; white-space: pre-wrap\; text-align: center\;"><span style="font-size: 16px\; font-family: Raleway\, sans-serif\; font-weight: bold\;">Email: susanr@eastcountychamber.org for more information!&#65279\;</span></div>\n
LOCATION:EL Cajon Police Department Community Room 100 Civic Way\, El Cajon CA 92020 MUST Email: susanr@eastcountychamber.org to ATTEND! RSVP'S MUST be sent to susanr@eastcountychamber.org before November 30th!
UID:e.895.13739
SEQUENCE:3
DTSTAMP:20260422T201423Z
URL:https://business.eastcountychamber.org/events/details/veca-invite-a-veteran-business-to-lunch-13739
END:VEVENT

END:VCALENDAR
