BEGIN:VCALENDAR
VERSION:2.0
PRODID:-//ChamberMaster//Event Calendar 2.0//EN
METHOD:PUBLISH
X-PUBLISHED-TTL:P3D
REFRESH-INTERVAL:P3D
CALSCALE:GREGORIAN
BEGIN:VEVENT
DTSTART:20221110T013000Z
DTEND:20221110T030000Z
X-MICROSOFT-CDO-ALLDAYEVENT:FALSE
SUMMARY:VECA Mixer
DESCRIPTION:Veteran Owned and Veteran Friendly Businesses you are invited to join the Veterans East County Alliance (VECA) in partnership with the San Diego Regional East County Chamber of Commerce and the Alpine Mountain Empire Chamber of Commerce for a Veteran and Marine Corp Celebration mixer.\n\nFree!\n\nRefreshments and Cake provided!\n\nRaffle prizes!\n\nNo Host Bar
X-ALT-DESC;FMTTYPE=text/html:<strong><span style="color:black\;"><span style="font-size:12.0pt\;">Veteran Owned and Veteran Friendly Businesses you are invited to join the Veterans East County Alliance (VECA) in partnership with the San Diego Regional East County Chamber of Commerce and the Alpine Mountain Empire Chamber of Commerce for a Veteran and Marine Corp Celebration mixer</span></span></strong><span style="color:black\;"><span style="font-size:12.0pt\;">.</span></span><br />\n<span style="color:black\;"><span style="font-size:14.0pt\;">Free!</span></span><br />\n<span style="color:black\;"><span style="font-size:14.0pt\;">Refreshments and Cake provided!</span></span><br />\n<span style="color:black\;"><span style="font-size:14.0pt\;">Raffle prizes!</span></span><br />\n<span style="color:black\;"><span style="font-size:14.0pt\;">No Host Bar</span></span>
LOCATION:Alpine VFW 844Tavern Road\, Alpine\, Ca 91901
UID:e.895.14413
SEQUENCE:3
DTSTAMP:20260420T233325Z
URL:https://business.eastcountychamber.org/events/details/veca-mixer-14413
END:VEVENT

END:VCALENDAR
