BEGIN:VCALENDAR
VERSION:2.0
PRODID:-//ChamberMaster//Event Calendar 2.0//EN
METHOD:PUBLISH
X-PUBLISHED-TTL:P3D
REFRESH-INTERVAL:P3D
CALSCALE:GREGORIAN
BEGIN:VEVENT
DTSTART:20220511T200000Z
DTEND:20220511T213000Z
X-MICROSOFT-CDO-ALLDAYEVENT:FALSE
SUMMARY:Veterans East County Alliance Meeting
DESCRIPTION:RSVP'S are appreciated!\n\nVeterans East County Alliance will be meeting every second Wednesday of the month\, from 12:30-2:30PM at the San Diego Regional East County Chamber of Commerce.\n\n \n\nWe are a diversified group of elected officials\, cities\, businesses\, schools\, and Veteran organizations who meet to address Veteran businesses\, employment and resources. We welcome new members to join our passion and efforts to create a strong Veteran East County Alliance program.  \n\n \n\nEmail: susanr@eastcountychamber.org for more information!
X-ALT-DESC;FMTTYPE=text/html:<div style="text-align: center\;"><br />\n<span style="color: rgb(64\, 63\, 66)\; font-family: Arial\, Verdana\, Helvetica\, sans-serif\; font-size: 12px\; white-space: pre-wrap\; background: white\;"><span style="color:#17365D\;"><span style="font-family:arial\,sans-serif\;"><span style="font-size:18.0pt\;">RSVP&rsquo\;S are appreciated!</span></span></span></span><br />\n<span style="color: rgb(0\, 0\, 0)\; font-family: Raleway\, sans-serif\; font-size: 16px\; white-space: pre-wrap\; font-weight: bold\;">Veterans East County Alliance</span><span style="color: rgb(0\, 0\, 0)\; font-family: Raleway\, sans-serif\; font-size: 16px\; white-space: pre-wrap\;"> will be meeting </span><span style="color: rgb(0\, 0\, 0)\; font-family: Raleway\, sans-serif\; font-size: 16px\; white-space: pre-wrap\; text-decoration-line: underline\;">every second Wednesday of the month</span><span style="color: rgb(0\, 0\, 0)\; font-family: Raleway\, sans-serif\; font-size: 16px\; white-space: pre-wrap\;">\, from 12:30-2:30PM at the San Diego Regional East County Chamber of Commerce.</span></div>\n\n<div style="color: rgb(64\, 63\, 66)\; font-family: Arial\, Verdana\, Helvetica\, sans-serif\; font-size: 12px\; white-space: pre-wrap\; text-align: center\;">&nbsp\;</div>\n\n<div style="color: rgb(64\, 63\, 66)\; font-family: Arial\, Verdana\, Helvetica\, sans-serif\; font-size: 12px\; white-space: pre-wrap\; text-align: center\;"><span style="font-size: 16px\; color: rgb(0\, 0\, 0)\; font-family: Raleway\, sans-serif\;">We are a diversified group of elected officials\, cities\, businesses\, schools\, and Veteran organizations who meet to address Veteran businesses\, employment and resources.&nbsp\;We welcome new&nbsp\;members to join our passion and efforts to create a </span><span style="font-size: 16px\; color: rgb(0\, 0\, 0)\; font-family: Raleway\, sans-serif\; font-weight: bold\;">strong Veteran East County Alliance program.&nbsp\;&nbsp\;</span></div>\n\n<div style="color: rgb(64\, 63\, 66)\; font-family: Arial\, Verdana\, Helvetica\, sans-serif\; font-size: 12px\; white-space: pre-wrap\; text-align: center\;">&nbsp\;</div>\n\n<div style="color: rgb(64\, 63\, 66)\; font-family: Arial\, Verdana\, Helvetica\, sans-serif\; font-size: 12px\; white-space: pre-wrap\; text-align: center\;"><span style="font-size: 16px\; font-family: Raleway\, sans-serif\; font-weight: bold\;">Email: susanr@eastcountychamber.org for more information!&#65279\;</span></div>\n
LOCATION:Chamber Office (BRC) 201 S. Magnolia Ave\, EL Cajon 92020
UID:e.895.13744
SEQUENCE:3
DTSTAMP:20260422T014528Z
URL:https://business.eastcountychamber.org/events/details/veterans-east-county-alliance-meeting-05-11-2022-13744
END:VEVENT

END:VCALENDAR
