BEGIN:VCALENDAR
VERSION:2.0
PRODID:-//ChamberMaster//Event Calendar 2.0//EN
METHOD:PUBLISH
X-PUBLISHED-TTL:P3D
REFRESH-INTERVAL:P3D
CALSCALE:GREGORIAN
BEGIN:VEVENT
DTSTART:20260529T170000Z
DTEND:20260529T210000Z
X-MICROSOFT-CDO-ALLDAYEVENT:FALSE
SUMMARY:Volunteers Needed! Project Homeless Connect
DESCRIPTION:
X-ALT-DESC;FMTTYPE=text/html:
LOCATION:Project Homeless Connect - Crisis House Hosts the San Diego East County Event Annually Ronald Reagan Community Center 195 E Douglas Ave\, El Cajon\, CA 92020 This event brings necessary services to folks experiencing homelessness in our community in one location\, on one day. Each year\, more than 35 service providers\, non-profit groups\, congregations\, and government agencies attend and 175 homeless people participate. This comprehensive resource fair provides: connections to housing\, DMV/California Identification and social security vouchers\, employment\, haircuts\, hygiene kits\, veterans assistance\, Medi-cal/CalFresh enrollment personal storage\, legal aid\, clothing\, mobile medical clinic\, mental health counseling\, pastoral care\, substance abuse and mental health services\, pet sitting\, and more. Our goal is to continue to host this important\, life-changing event and we are asking for your support to ensure its longevity. Join the Project and ensure our community helps: Connect people to services that will allow them to become permanently housed. Provide resources and referrals to various health and social services. Partner with corporations\, congregations\, civic clubs\, individuals\, government\, and nonprofits to help individuals in need. Engage community volunteers. Expand awareness of homelessness. Work to end chronic homelessness.
UID:e.895.22091
SEQUENCE:3
DTSTAMP:20260421T004212Z
URL:https://business.eastcountychamber.org/events/details/volunteers-needed-project-homeless-connect-22091
END:VEVENT

END:VCALENDAR
